BEGIN:VCALENDAR
VERSION:2.0
PRODID:-//Devpost\, Inc.//Build for the Border - Immigrant Hackathon NYC//E
 N
CALSCALE:GREGORIAN
BEGIN:VTIMEZONE
TZID:America/New_York
BEGIN:DAYLIGHT
DTSTART:20260308T030000
TZOFFSETFROM:-0500
TZOFFSETTO:-0400
RRULE:FREQ=YEARLY;BYDAY=2SU;BYMONTH=3
TZNAME:EDT
END:DAYLIGHT
BEGIN:STANDARD
DTSTART:20261101T010000
TZOFFSETFROM:-0400
TZOFFSETTO:-0500
RRULE:FREQ=YEARLY;BYDAY=1SU;BYMONTH=11
TZNAME:EST
END:STANDARD
END:VTIMEZONE
BEGIN:VEVENT
DTSTAMP:20260423T050046Z
UID:679c7dec-b1ce-4e0b-8208-8d9b8f589f03
DTSTART;TZID=America/New_York:20260509T120000
DTEND;TZID=America/New_York:20260509T170000
DESCRIPTION:https://immigrant-hack-nyc.devpost.com/
LOCATION:446 Broadway\, New York\, NY 10013\, USA
SUMMARY:Build for the Border - Immigrant Hackathon NYC
BEGIN:VALARM
ACTION:DISPLAY
TRIGGER:-P3D
SUMMARY:Get ready\, the hacking starts in 3 days.
END:VALARM
END:VEVENT
END:VCALENDAR
